BEGIN:VCALENDAR
VERSION:2.0
PRODID:-//Club de golf Victoriaville - ECPv6.15.15//NONSGML v1.0//EN
CALSCALE:GREGORIAN
METHOD:PUBLISH
X-ORIGINAL-URL:https://golfvictoriaville.com
X-WR-CALDESC:Évènements pour Club de golf Victoriaville
REFRESH-INTERVAL;VALUE=DURATION:PT1H
X-Robots-Tag:noindex
X-PUBLISHED-TTL:PT1H
BEGIN:VTIMEZONE
TZID:America/Toronto
BEGIN:DAYLIGHT
TZOFFSETFROM:-0500
TZOFFSETTO:-0400
TZNAME:EDT
DTSTART:19690427T070000
END:DAYLIGHT
BEGIN:STANDARD
TZOFFSETFROM:-0400
TZOFFSETTO:-0500
TZNAME:EST
DTSTART:19691026T060000
END:STANDARD
BEGIN:DAYLIGHT
TZOFFSETFROM:-0500
TZOFFSETTO:-0400
TZNAME:EDT
DTSTART:19700426T070000
END:DAYLIGHT
BEGIN:STANDARD
TZOFFSETFROM:-0400
TZOFFSETTO:-0500
TZNAME:EST
DTSTART:19701025T060000
END:STANDARD
BEGIN:DAYLIGHT
TZOFFSETFROM:-0500
TZOFFSETTO:-0400
TZNAME:EDT
DTSTART:19710425T070000
END:DAYLIGHT
BEGIN:STANDARD
TZOFFSETFROM:-0400
TZOFFSETTO:-0500
TZNAME:EST
DTSTART:19711031T060000
END:STANDARD
BEGIN:DAYLIGHT
TZOFFSETFROM:-0500
TZOFFSETTO:-0400
TZNAME:EDT
DTSTART:19720430T070000
END:DAYLIGHT
BEGIN:STANDARD
TZOFFSETFROM:-0400
TZOFFSETTO:-0500
TZNAME:EST
DTSTART:19721029T060000
END:STANDARD
BEGIN:DAYLIGHT
TZOFFSETFROM:-0500
TZOFFSETTO:-0400
TZNAME:EDT
DTSTART:19730429T070000
END:DAYLIGHT
BEGIN:STANDARD
TZOFFSETFROM:-0400
TZOFFSETTO:-0500
TZNAME:EST
DTSTART:19731028T060000
END:STANDARD
BEGIN:DAYLIGHT
TZOFFSETFROM:-0500
TZOFFSETTO:-0400
TZNAME:EDT
DTSTART:19740428T070000
END:DAYLIGHT
BEGIN:STANDARD
TZOFFSETFROM:-0400
TZOFFSETTO:-0500
TZNAME:EST
DTSTART:19741027T060000
END:STANDARD
BEGIN:DAYLIGHT
TZOFFSETFROM:-0500
TZOFFSETTO:-0400
TZNAME:EDT
DTSTART:19750427T070000
END:DAYLIGHT
BEGIN:STANDARD
TZOFFSETFROM:-0400
TZOFFSETTO:-0500
TZNAME:EST
DTSTART:19751026T060000
END:STANDARD
BEGIN:DAYLIGHT
TZOFFSETFROM:-0500
TZOFFSETTO:-0400
TZNAME:EDT
DTSTART:19760425T070000
END:DAYLIGHT
BEGIN:STANDARD
TZOFFSETFROM:-0400
TZOFFSETTO:-0500
TZNAME:EST
DTSTART:19761031T060000
END:STANDARD
BEGIN:DAYLIGHT
TZOFFSETFROM:-0500
TZOFFSETTO:-0400
TZNAME:EDT
DTSTART:19770424T070000
END:DAYLIGHT
BEGIN:STANDARD
TZOFFSETFROM:-0400
TZOFFSETTO:-0500
TZNAME:EST
DTSTART:19771030T060000
END:STANDARD
BEGIN:DAYLIGHT
TZOFFSETFROM:-0500
TZOFFSETTO:-0400
TZNAME:EDT
DTSTART:19780430T070000
END:DAYLIGHT
BEGIN:STANDARD
TZOFFSETFROM:-0400
TZOFFSETTO:-0500
TZNAME:EST
DTSTART:19781029T060000
END:STANDARD
BEGIN:DAYLIGHT
TZOFFSETFROM:-0500
TZOFFSETTO:-0400
TZNAME:EDT
DTSTART:19790429T070000
END:DAYLIGHT
BEGIN:STANDARD
TZOFFSETFROM:-0400
TZOFFSETTO:-0500
TZNAME:EST
DTSTART:19791028T060000
END:STANDARD
BEGIN:DAYLIGHT
TZOFFSETFROM:-0500
TZOFFSETTO:-0400
TZNAME:EDT
DTSTART:19800427T070000
END:DAYLIGHT
BEGIN:STANDARD
TZOFFSETFROM:-0400
TZOFFSETTO:-0500
TZNAME:EST
DTSTART:19801026T060000
END:STANDARD
BEGIN:DAYLIGHT
TZOFFSETFROM:-0500
TZOFFSETTO:-0400
TZNAME:EDT
DTSTART:19810426T070000
END:DAYLIGHT
BEGIN:STANDARD
TZOFFSETFROM:-0400
TZOFFSETTO:-0500
TZNAME:EST
DTSTART:19811025T060000
END:STANDARD
BEGIN:DAYLIGHT
TZOFFSETFROM:-0500
TZOFFSETTO:-0400
TZNAME:EDT
DTSTART:19820425T070000
END:DAYLIGHT
BEGIN:STANDARD
TZOFFSETFROM:-0400
TZOFFSETTO:-0500
TZNAME:EST
DTSTART:19821031T060000
END:STANDARD
BEGIN:DAYLIGHT
TZOFFSETFROM:-0500
TZOFFSETTO:-0400
TZNAME:EDT
DTSTART:19830424T070000
END:DAYLIGHT
BEGIN:STANDARD
TZOFFSETFROM:-0400
TZOFFSETTO:-0500
TZNAME:EST
DTSTART:19831030T060000
END:STANDARD
BEGIN:DAYLIGHT
TZOFFSETFROM:-0500
TZOFFSETTO:-0400
TZNAME:EDT
DTSTART:19840429T070000
END:DAYLIGHT
BEGIN:STANDARD
TZOFFSETFROM:-0400
TZOFFSETTO:-0500
TZNAME:EST
DTSTART:19841028T060000
END:STANDARD
BEGIN:DAYLIGHT
TZOFFSETFROM:-0500
TZOFFSETTO:-0400
TZNAME:EDT
DTSTART:19850428T070000
END:DAYLIGHT
BEGIN:STANDARD
TZOFFSETFROM:-0400
TZOFFSETTO:-0500
TZNAME:EST
DTSTART:19851027T060000
END:STANDARD
BEGIN:DAYLIGHT
TZOFFSETFROM:-0500
TZOFFSETTO:-0400
TZNAME:EDT
DTSTART:19860427T070000
END:DAYLIGHT
BEGIN:STANDARD
TZOFFSETFROM:-0400
TZOFFSETTO:-0500
TZNAME:EST
DTSTART:19861026T060000
END:STANDARD
BEGIN:DAYLIGHT
TZOFFSETFROM:-0500
TZOFFSETTO:-0400
TZNAME:EDT
DTSTART:19870405T070000
END:DAYLIGHT
BEGIN:STANDARD
TZOFFSETFROM:-0400
TZOFFSETTO:-0500
TZNAME:EST
DTSTART:19871025T060000
END:STANDARD
BEGIN:DAYLIGHT
TZOFFSETFROM:-0500
TZOFFSETTO:-0400
TZNAME:EDT
DTSTART:19880403T070000
END:DAYLIGHT
BEGIN:STANDARD
TZOFFSETFROM:-0400
TZOFFSETTO:-0500
TZNAME:EST
DTSTART:19881030T060000
END:STANDARD
BEGIN:DAYLIGHT
TZOFFSETFROM:-0500
TZOFFSETTO:-0400
TZNAME:EDT
DTSTART:19890402T070000
END:DAYLIGHT
BEGIN:STANDARD
TZOFFSETFROM:-0400
TZOFFSETTO:-0500
TZNAME:EST
DTSTART:19891029T060000
END:STANDARD
BEGIN:DAYLIGHT
TZOFFSETFROM:-0500
TZOFFSETTO:-0400
TZNAME:EDT
DTSTART:19900401T070000
END:DAYLIGHT
BEGIN:STANDARD
TZOFFSETFROM:-0400
TZOFFSETTO:-0500
TZNAME:EST
DTSTART:19901028T060000
END:STANDARD
BEGIN:DAYLIGHT
TZOFFSETFROM:-0500
TZOFFSETTO:-0400
TZNAME:EDT
DTSTART:19910407T070000
END:DAYLIGHT
BEGIN:STANDARD
TZOFFSETFROM:-0400
TZOFFSETTO:-0500
TZNAME:EST
DTSTART:19911027T060000
END:STANDARD
BEGIN:DAYLIGHT
TZOFFSETFROM:-0500
TZOFFSETTO:-0400
TZNAME:EDT
DTSTART:19920405T070000
END:DAYLIGHT
BEGIN:STANDARD
TZOFFSETFROM:-0400
TZOFFSETTO:-0500
TZNAME:EST
DTSTART:19921025T060000
END:STANDARD
BEGIN:DAYLIGHT
TZOFFSETFROM:-0500
TZOFFSETTO:-0400
TZNAME:EDT
DTSTART:19930404T070000
END:DAYLIGHT
BEGIN:STANDARD
TZOFFSETFROM:-0400
TZOFFSETTO:-0500
TZNAME:EST
DTSTART:19931031T060000
END:STANDARD
BEGIN:DAYLIGHT
TZOFFSETFROM:-0500
TZOFFSETTO:-0400
TZNAME:EDT
DTSTART:19940403T070000
END:DAYLIGHT
BEGIN:STANDARD
TZOFFSETFROM:-0400
TZOFFSETTO:-0500
TZNAME:EST
DTSTART:19941030T060000
END:STANDARD
BEGIN:DAYLIGHT
TZOFFSETFROM:-0500
TZOFFSETTO:-0400
TZNAME:EDT
DTSTART:19950402T070000
END:DAYLIGHT
BEGIN:STANDARD
TZOFFSETFROM:-0400
TZOFFSETTO:-0500
TZNAME:EST
DTSTART:19951029T060000
END:STANDARD
BEGIN:DAYLIGHT
TZOFFSETFROM:-0500
TZOFFSETTO:-0400
TZNAME:EDT
DTSTART:19960407T070000
END:DAYLIGHT
BEGIN:STANDARD
TZOFFSETFROM:-0400
TZOFFSETTO:-0500
TZNAME:EST
DTSTART:19961027T060000
END:STANDARD
BEGIN:DAYLIGHT
TZOFFSETFROM:-0500
TZOFFSETTO:-0400
TZNAME:EDT
DTSTART:19970406T070000
END:DAYLIGHT
BEGIN:STANDARD
TZOFFSETFROM:-0400
TZOFFSETTO:-0500
TZNAME:EST
DTSTART:19971026T060000
END:STANDARD
BEGIN:DAYLIGHT
TZOFFSETFROM:-0500
TZOFFSETTO:-0400
TZNAME:EDT
DTSTART:19980405T070000
END:DAYLIGHT
BEGIN:STANDARD
TZOFFSETFROM:-0400
TZOFFSETTO:-0500
TZNAME:EST
DTSTART:19981025T060000
END:STANDARD
BEGIN:DAYLIGHT
TZOFFSETFROM:-0500
TZOFFSETTO:-0400
TZNAME:EDT
DTSTART:19990404T070000
END:DAYLIGHT
BEGIN:STANDARD
TZOFFSETFROM:-0400
TZOFFSETTO:-0500
TZNAME:EST
DTSTART:19991031T060000
END:STANDARD
BEGIN:DAYLIGHT
TZOFFSETFROM:-0500
TZOFFSETTO:-0400
TZNAME:EDT
DTSTART:20000402T070000
END:DAYLIGHT
BEGIN:STANDARD
TZOFFSETFROM:-0400
TZOFFSETTO:-0500
TZNAME:EST
DTSTART:20001029T060000
END:STANDARD
BEGIN:DAYLIGHT
TZOFFSETFROM:-0500
TZOFFSETTO:-0400
TZNAME:EDT
DTSTART:20010401T070000
END:DAYLIGHT
BEGIN:STANDARD
TZOFFSETFROM:-0400
TZOFFSETTO:-0500
TZNAME:EST
DTSTART:20011028T060000
END:STANDARD
BEGIN:DAYLIGHT
TZOFFSETFROM:-0500
TZOFFSETTO:-0400
TZNAME:EDT
DTSTART:20020407T070000
END:DAYLIGHT
BEGIN:STANDARD
TZOFFSETFROM:-0400
TZOFFSETTO:-0500
TZNAME:EST
DTSTART:20021027T060000
END:STANDARD
BEGIN:DAYLIGHT
TZOFFSETFROM:-0500
TZOFFSETTO:-0400
TZNAME:EDT
DTSTART:20030406T070000
END:DAYLIGHT
BEGIN:STANDARD
TZOFFSETFROM:-0400
TZOFFSETTO:-0500
TZNAME:EST
DTSTART:20031026T060000
END:STANDARD
BEGIN:DAYLIGHT
TZOFFSETFROM:-0500
TZOFFSETTO:-0400
TZNAME:EDT
DTSTART:20040404T070000
END:DAYLIGHT
BEGIN:STANDARD
TZOFFSETFROM:-0400
TZOFFSETTO:-0500
TZNAME:EST
DTSTART:20041031T060000
END:STANDARD
BEGIN:DAYLIGHT
TZOFFSETFROM:-0500
TZOFFSETTO:-0400
TZNAME:EDT
DTSTART:20050403T070000
END:DAYLIGHT
BEGIN:STANDARD
TZOFFSETFROM:-0400
TZOFFSETTO:-0500
TZNAME:EST
DTSTART:20051030T060000
END:STANDARD
BEGIN:DAYLIGHT
TZOFFSETFROM:-0500
TZOFFSETTO:-0400
TZNAME:EDT
DTSTART:20060402T070000
END:DAYLIGHT
BEGIN:STANDARD
TZOFFSETFROM:-0400
TZOFFSETTO:-0500
TZNAME:EST
DTSTART:20061029T060000
END:STANDARD
BEGIN:DAYLIGHT
TZOFFSETFROM:-0500
TZOFFSETTO:-0400
TZNAME:EDT
DTSTART:20070311T070000
END:DAYLIGHT
BEGIN:STANDARD
TZOFFSETFROM:-0400
TZOFFSETTO:-0500
TZNAME:EST
DTSTART:20071104T060000
END:STANDARD
BEGIN:DAYLIGHT
TZOFFSETFROM:-0500
TZOFFSETTO:-0400
TZNAME:EDT
DTSTART:20080309T070000
END:DAYLIGHT
BEGIN:STANDARD
TZOFFSETFROM:-0400
TZOFFSETTO:-0500
TZNAME:EST
DTSTART:20081102T060000
END:STANDARD
BEGIN:DAYLIGHT
TZOFFSETFROM:-0500
TZOFFSETTO:-0400
TZNAME:EDT
DTSTART:20090308T070000
END:DAYLIGHT
BEGIN:STANDARD
TZOFFSETFROM:-0400
TZOFFSETTO:-0500
TZNAME:EST
DTSTART:20091101T060000
END:STANDARD
BEGIN:DAYLIGHT
TZOFFSETFROM:-0500
TZOFFSETTO:-0400
TZNAME:EDT
DTSTART:20100314T070000
END:DAYLIGHT
BEGIN:STANDARD
TZOFFSETFROM:-0400
TZOFFSETTO:-0500
TZNAME:EST
DTSTART:20101107T060000
END:STANDARD
BEGIN:DAYLIGHT
TZOFFSETFROM:-0500
TZOFFSETTO:-0400
TZNAME:EDT
DTSTART:20110313T070000
END:DAYLIGHT
BEGIN:STANDARD
TZOFFSETFROM:-0400
TZOFFSETTO:-0500
TZNAME:EST
DTSTART:20111106T060000
END:STANDARD
BEGIN:DAYLIGHT
TZOFFSETFROM:-0500
TZOFFSETTO:-0400
TZNAME:EDT
DTSTART:20120311T070000
END:DAYLIGHT
BEGIN:STANDARD
TZOFFSETFROM:-0400
TZOFFSETTO:-0500
TZNAME:EST
DTSTART:20121104T060000
END:STANDARD
BEGIN:DAYLIGHT
TZOFFSETFROM:-0500
TZOFFSETTO:-0400
TZNAME:EDT
DTSTART:20130310T070000
END:DAYLIGHT
BEGIN:STANDARD
TZOFFSETFROM:-0400
TZOFFSETTO:-0500
TZNAME:EST
DTSTART:20131103T060000
END:STANDARD
BEGIN:DAYLIGHT
TZOFFSETFROM:-0500
TZOFFSETTO:-0400
TZNAME:EDT
DTSTART:20140309T070000
END:DAYLIGHT
BEGIN:STANDARD
TZOFFSETFROM:-0400
TZOFFSETTO:-0500
TZNAME:EST
DTSTART:20141102T060000
END:STANDARD
BEGIN:DAYLIGHT
TZOFFSETFROM:-0500
TZOFFSETTO:-0400
TZNAME:EDT
DTSTART:20150308T070000
END:DAYLIGHT
BEGIN:STANDARD
TZOFFSETFROM:-0400
TZOFFSETTO:-0500
TZNAME:EST
DTSTART:20151101T060000
END:STANDARD
BEGIN:DAYLIGHT
TZOFFSETFROM:-0500
TZOFFSETTO:-0400
TZNAME:EDT
DTSTART:20160313T070000
END:DAYLIGHT
BEGIN:STANDARD
TZOFFSETFROM:-0400
TZOFFSETTO:-0500
TZNAME:EST
DTSTART:20161106T060000
END:STANDARD
BEGIN:DAYLIGHT
TZOFFSETFROM:-0500
TZOFFSETTO:-0400
TZNAME:EDT
DTSTART:20170312T070000
END:DAYLIGHT
BEGIN:STANDARD
TZOFFSETFROM:-0400
TZOFFSETTO:-0500
TZNAME:EST
DTSTART:20171105T060000
END:STANDARD
BEGIN:DAYLIGHT
TZOFFSETFROM:-0500
TZOFFSETTO:-0400
TZNAME:EDT
DTSTART:20180311T070000
END:DAYLIGHT
BEGIN:STANDARD
TZOFFSETFROM:-0400
TZOFFSETTO:-0500
TZNAME:EST
DTSTART:20181104T060000
END:STANDARD
BEGIN:DAYLIGHT
TZOFFSETFROM:-0500
TZOFFSETTO:-0400
TZNAME:EDT
DTSTART:20190310T070000
END:DAYLIGHT
BEGIN:STANDARD
TZOFFSETFROM:-0400
TZOFFSETTO:-0500
TZNAME:EST
DTSTART:20191103T060000
END:STANDARD
BEGIN:DAYLIGHT
TZOFFSETFROM:-0500
TZOFFSETTO:-0400
TZNAME:EDT
DTSTART:20200308T070000
END:DAYLIGHT
BEGIN:STANDARD
TZOFFSETFROM:-0400
TZOFFSETTO:-0500
TZNAME:EST
DTSTART:20201101T060000
END:STANDARD
BEGIN:DAYLIGHT
TZOFFSETFROM:-0500
TZOFFSETTO:-0400
TZNAME:EDT
DTSTART:20210314T070000
END:DAYLIGHT
BEGIN:STANDARD
TZOFFSETFROM:-0400
TZOFFSETTO:-0500
TZNAME:EST
DTSTART:20211107T060000
END:STANDARD
BEGIN:DAYLIGHT
TZOFFSETFROM:-0500
TZOFFSETTO:-0400
TZNAME:EDT
DTSTART:20220313T070000
END:DAYLIGHT
BEGIN:STANDARD
TZOFFSETFROM:-0400
TZOFFSETTO:-0500
TZNAME:EST
DTSTART:20221106T060000
END:STANDARD
BEGIN:DAYLIGHT
TZOFFSETFROM:-0500
TZOFFSETTO:-0400
TZNAME:EDT
DTSTART:20230312T070000
END:DAYLIGHT
BEGIN:STANDARD
TZOFFSETFROM:-0400
TZOFFSETTO:-0500
TZNAME:EST
DTSTART:20231105T060000
END:STANDARD
BEGIN:DAYLIGHT
TZOFFSETFROM:-0500
TZOFFSETTO:-0400
TZNAME:EDT
DTSTART:20240310T070000
END:DAYLIGHT
BEGIN:STANDARD
TZOFFSETFROM:-0400
TZOFFSETTO:-0500
TZNAME:EST
DTSTART:20241103T060000
END:STANDARD
BEGIN:DAYLIGHT
TZOFFSETFROM:-0500
TZOFFSETTO:-0400
TZNAME:EDT
DTSTART:20250309T070000
END:DAYLIGHT
BEGIN:STANDARD
TZOFFSETFROM:-0400
TZOFFSETTO:-0500
TZNAME:EST
DTSTART:20251102T060000
END:STANDARD
BEGIN:DAYLIGHT
TZOFFSETFROM:-0500
TZOFFSETTO:-0400
TZNAME:EDT
DTSTART:20260308T070000
END:DAYLIGHT
BEGIN:STANDARD
TZOFFSETFROM:-0400
TZOFFSETTO:-0500
TZNAME:EST
DTSTART:20261101T060000
END:STANDARD
BEGIN:DAYLIGHT
TZOFFSETFROM:-0500
TZOFFSETTO:-0400
TZNAME:EDT
DTSTART:20270314T070000
END:DAYLIGHT
BEGIN:STANDARD
TZOFFSETFROM:-0400
TZOFFSETTO:-0500
TZNAME:EST
DTSTART:20271107T060000
END:STANDARD
END:VTIMEZONE
BEGIN:VEVENT
DTSTART;TZID=America/Toronto:20260419T183059
DTEND;TZID=America/Toronto:20260902T135200
DTSTAMP:20260419T183059
CREATED:20260413T154307Z
LAST-MODIFIED:20260413T154721Z
UID:2332-0-1788357120@golfvictoriaville.com
SUMMARY:GROUPE - LES AMIS DU GOLF
DESCRIPTION:Départs du groupe entre 12h24 et 13h52
URL:https://golfvictoriaville.com/activites/groupe-les-amis-du-golf-5/
END:VEVENT
BEGIN:VEVENT
DTSTART;TZID=America/Toronto:20250805T180000
DTEND;TZID=America/Toronto:20250805T193000
DTSTAMP:20260419T183059
CREATED:20250506T143041Z
LAST-MODIFIED:20250506T143351Z
UID:1735-1754416800-1754422200@golfvictoriaville.com
SUMMARY:Rencontre des bénévoles - Coupe Canada V-F
DESCRIPTION:18h : Importante réunion d’information pour les bénévoles entourant la Coupe Canada V-F qui aura lieu du 14 au 17 août.
URL:https://golfvictoriaville.com/activites/rencontre-des-benevoles-coupe-canada-v-f/
END:VEVENT
BEGIN:VEVENT
DTSTART;TZID=America/Toronto:20250806T083200
DTEND;TZID=America/Toronto:20250806T094000
DTSTAMP:20260419T183059
CREATED:20250506T143530Z
LAST-MODIFIED:20250506T143656Z
UID:1737-1754469120-1754473200@golfvictoriaville.com
SUMMARY:Groupe Jean-Pierre Lessard
DESCRIPTION:Départs sur 2 tees entre 8h32 et 9h40
URL:https://golfvictoriaville.com/activites/groupe-jean-pierre-lessard-6/
END:VEVENT
BEGIN:VEVENT
DTSTART;TZID=America/Toronto:20250807T122000
DTEND;TZID=America/Toronto:20250807T130000
DTSTAMP:20260419T183059
CREATED:20250506T143816Z
LAST-MODIFIED:20250506T143951Z
UID:1739-1754569200-1754571600@golfvictoriaville.com
SUMMARY:Groupe Ben Tardif
DESCRIPTION:Départs sur 2 tees à partir de 12h20 (40 joueurs env.)
URL:https://golfvictoriaville.com/activites/1739/
END:VEVENT
BEGIN:VEVENT
DTSTART;TZID=America/Toronto:20250809T150000
DTEND;TZID=America/Toronto:20250809T233000
DTSTAMP:20260419T183059
CREATED:20250506T144038Z
LAST-MODIFIED:20250506T144140Z
UID:1742-1754751600-1754782200@golfvictoriaville.com
SUMMARY:Mariage - Shany et Francis
DESCRIPTION:Réception en PM
URL:https://golfvictoriaville.com/activites/mariage-shany-et-francis/
END:VEVENT
BEGIN:VEVENT
DTSTART;TZID=America/Toronto:20250810T131600
DTEND;TZID=America/Toronto:20250810T135600
DTSTAMP:20260419T183059
CREATED:20250506T141300Z
LAST-MODIFIED:20250730T140653Z
UID:1732-1754831760-1754834160@golfvictoriaville.com
SUMMARY:Tournoi junior - Parents-enfants
DESCRIPTION:Départs à partir de 13h16. Infos : Thomas Vallières : 819 352-1721
URL:https://golfvictoriaville.com/activites/tournoi-junior-parents-enfants/
END:VEVENT
BEGIN:VEVENT
DTSTART;TZID=America/Toronto:20250811T110000
DTEND;TZID=America/Toronto:20250811T160000
DTSTAMP:20260419T183059
CREATED:20250506T151322Z
LAST-MODIFIED:20250506T151731Z
UID:1756-1754910000-1754928000@golfvictoriaville.com
SUMMARY:Défi junior d'habiletés de Golf Québec
DESCRIPTION:Finale provinciale. Le trou #10 sera bloqué de 14h à 15h30 pour le concours de longue drive. SVP\, veuillez passer ce trou si la compétition se déroule. Merci!
URL:https://golfvictoriaville.com/activites/defi-junior-dhabiletes-de-golf-quebec/
ATTACH;FMTTYPE=image/jpeg:https://golfvictoriaville.com/wp-content/uploads/2025/05/Putting-2024.jpg
END:VEVENT
BEGIN:VEVENT
DTSTART;TZID=America/Toronto:20250812T100000
DTEND;TZID=America/Toronto:20250812T200000
DTSTAMP:20260419T183059
CREATED:20250506T152204Z
LAST-MODIFIED:20250506T152318Z
UID:1759-1754992800-1755028800@golfvictoriaville.com
SUMMARY:Pro-Am Machinage Piché - Coupe Canada V-F
DESCRIPTION:Journée de golf de prestige où des amateurs jouent une ronde de golf en compagnie des professionnels participant à la Coupe Canada V-F. Aux profits de la Fondation À notre santé (HDA). Vous aimeriez jouer dans un Pro-Am? Contactez Alain Danault : 819 752-4907\, poste 258.
URL:https://golfvictoriaville.com/activites/pro-am-machinage-piche-coupe-canada-v-f/
END:VEVENT
BEGIN:VEVENT
DTSTART;TZID=America/Toronto:20250813T100000
DTEND;TZID=America/Toronto:20250813T200000
DTSTAMP:20260419T183059
CREATED:20250506T152354Z
LAST-MODIFIED:20250506T152614Z
UID:1761-1755079200-1755115200@golfvictoriaville.com
SUMMARY:Pro-Am Machniage Piché Coupe Canada V-F. Grands partenaires
DESCRIPTION:Journée de golf de prestige où des amateurs jouent une ronde de golf en compagnie des professionnels participant à la Coupe Canada V-F. Aux profits de la Fondation À notre santé (HDA). Vous aimeriez jouer dans un Pro-Am? Contactez Alain Danault : 819 752-4907\, poste 258.
URL:https://golfvictoriaville.com/activites/pro-am-machniage-piche-coupe-canada-v-f-grands-partenaires/
END:VEVENT
BEGIN:VEVENT
DTSTART;TZID=America/Toronto:20250814T073000
DTEND;TZID=America/Toronto:20250814T200000
DTSTAMP:20260419T183059
CREATED:20250506T152658Z
LAST-MODIFIED:20250506T152719Z
UID:1763-1755156600-1755201600@golfvictoriaville.com
SUMMARY:Ronde 1 - Coupe Canada Victoriaville - Fenergic
DESCRIPTION:140 golfeurs professionnels et une quinzaines d’amateurs tentent de se qualifier pour les 60 places disponibles du samedi et dimanche 16 et 17 août. Bourse totale de 140\,000$ dont 35\,000$ au champion. Admission gratuite.
URL:https://golfvictoriaville.com/activites/ronde-1-coupe-canada-victoriaville-fenergic/
END:VEVENT
BEGIN:VEVENT
DTSTART;TZID=America/Toronto:20250815T073000
DTEND;TZID=America/Toronto:20250815T200000
DTSTAMP:20260419T183059
CREATED:20250506T152822Z
LAST-MODIFIED:20250506T153127Z
UID:1765-1755243000-1755288000@golfvictoriaville.com
SUMMARY:Ronde 2 - Coupe Canada Victoriaville - Fenergic
DESCRIPTION:140 golfeurs professionnels et une quinzaines d’amateurs tentent de se qualifier pour les 60 places disponibles du samedi et dimanche 16 et 17 août. Bourse totale de 140\,000$ dont 35\,000$ au champion. Admission gratuite.
URL:https://golfvictoriaville.com/activites/ronde-2-coupe-canada-victoriaville-fenergic/
END:VEVENT
BEGIN:VEVENT
DTSTART;TZID=America/Toronto:20250816T080000
DTEND;TZID=America/Toronto:20250816T173000
DTSTAMP:20260419T183059
CREATED:20250506T153216Z
LAST-MODIFIED:20250506T153418Z
UID:1767-1755331200-1755365400@golfvictoriaville.com
SUMMARY:Ronde 3 - Coupe Canada Victoriaville - Fenergic
DESCRIPTION:Les 60 meilleurs compétiteurs et égalité au terme des 2 premières rondes rivaliseront pour mettre la main sur le titre de champion de la Coupe Canada V-F et la bourse de 35\,000$ issue d’une bourse globale de 140\,000$. Admission gratuite.
URL:https://golfvictoriaville.com/activites/ronde-3-coupe-canada-victoriaville-fenergic/
END:VEVENT
BEGIN:VEVENT
DTSTART;TZID=America/Toronto:20250817T080000
DTEND;TZID=America/Toronto:20250817T173000
DTSTAMP:20260419T183059
CREATED:20250506T153504Z
LAST-MODIFIED:20250506T153553Z
UID:1769-1755417600-1755451800@golfvictoriaville.com
SUMMARY:Ronde 4 - Coupe Canada Victoriaville - Fenergic
DESCRIPTION:Ronde finale qui couronnera le champion de la Coupe Canada V-F qui touchera une somme de 35\,000$ issue d’une bourse globale de 140\,000$. Admission gratuite. On vous attend nombreux!
URL:https://golfvictoriaville.com/activites/ronde-4-coupe-canada-victoriaville-fenergic/
END:VEVENT
BEGIN:VEVENT
DTSTART;TZID=America/Toronto:20250819T133200
DTEND;TZID=America/Toronto:20250819T135200
DTSTAMP:20260419T183059
CREATED:20250506T153856Z
LAST-MODIFIED:20250506T154338Z
UID:1771-1755610320-1755611520@golfvictoriaville.com
SUMMARY:Groupe Yvon Pellerin
DESCRIPTION:Départs à partir de 12h32 (10 départs)
URL:https://golfvictoriaville.com/activites/groupe-yvon-pellerin/
END:VEVENT
BEGIN:VEVENT
DTSTART;TZID=America/Toronto:20250820T122400
DTEND;TZID=America/Toronto:20250820T125600
DTSTAMP:20260419T183059
CREATED:20250506T150656Z
LAST-MODIFIED:20250506T150656Z
UID:1751-1755692640-1755694560@golfvictoriaville.com
SUMMARY:Journée des Dames
DESCRIPTION:Départs sur 2 tees entre 12h24 et 12h56. Infos Guylaine Trahan : 514 502-1057
URL:https://golfvictoriaville.com/activites/journee-des-dames-11/
END:VEVENT
BEGIN:VEVENT
DTSTART;TZID=America/Toronto:20250824T083200
DTEND;TZID=America/Toronto:20250824T094000
DTSTAMP:20260419T183059
CREATED:20250506T144219Z
LAST-MODIFIED:20250728T123700Z
UID:1744-1756024320-1756028400@golfvictoriaville.com
SUMMARY:Calcutta de la capitainerie
DESCRIPTION:Départs sur 2 tees à 9h40 et moins. Inscription à la boutique du pro.
URL:https://golfvictoriaville.com/activites/calcutta-de-la-capitainerie-5/
END:VEVENT
BEGIN:VEVENT
DTSTART;TZID=America/Toronto:20250827T103000
DTEND;TZID=America/Toronto:20250827T163000
DTSTAMP:20260419T183059
CREATED:20250506T154424Z
LAST-MODIFIED:20250506T154424Z
UID:1773-1756290600-1756312200@golfvictoriaville.com
SUMMARY:Tournoi - Fondation de l'Ermitage
DESCRIPTION:Shotgun à 10h30. Parcours ouvert aux ligues et aux membres après le tournoi vers 16h30 approx.
URL:https://golfvictoriaville.com/activites/tournoi-fondation-de-lermitage/
END:VEVENT
BEGIN:VEVENT
DTSTART;TZID=America/Toronto:20250828T122400
DTEND;TZID=America/Toronto:20250828T135200
DTSTAMP:20260419T183059
CREATED:20250506T154612Z
LAST-MODIFIED:20250506T154713Z
UID:1775-1756383840-1756389120@golfvictoriaville.com
SUMMARY:Les Amis du Golf
DESCRIPTION:Départs sur 2 tees entre 12h24 et 13h52
URL:https://golfvictoriaville.com/activites/les-amis-du-golf-10/
END:VEVENT
BEGIN:VEVENT
DTSTART;TZID=America/Toronto:20250829T120000
DTEND;TZID=America/Toronto:20250829T220000
DTSTAMP:20260419T183059
CREATED:20250819T194539Z
LAST-MODIFIED:20250819T194539Z
UID:1862-1756468800-1756504800@golfvictoriaville.com
SUMMARY:VENDREDI BBQ FESTIF
DESCRIPTION:Une belle occasion de festoyer avec les amis(es). De midi à 16h : Blé d’inde à volonté | À partir de 16h : Méchoui gourmand (9oz de viandes (côtes levées\, poulet\, brisket + 2 choix de salades\, frites). Seulement 35$ (membres) ou 38$ (non-membres). Tx et serv. en sus. Réservez votre table. Chansonnier Rudy Nolette sur place en soirée. Réservez maintenant auprès de Steeven Tourigny au bureau administratif (819) 752-4907\, poste 221.
URL:https://golfvictoriaville.com/activites/vendredi-bbq-festif/
ATTACH;FMTTYPE=application/pdf:https://golfvictoriaville.com/wp-content/uploads/2025/08/BBQ-PARTY-affiche-8-5x11-1.pdf
END:VEVENT
BEGIN:VEVENT
DTSTART;TZID=America/Toronto:20250830T080000
DTEND;TZID=America/Toronto:20250830T100000
DTSTAMP:20260419T183059
CREATED:20250506T155051Z
LAST-MODIFIED:20250506T155558Z
UID:1779-1756540800-1756548000@golfvictoriaville.com
SUMMARY:Ronde 1 - Championnat du Club
DESCRIPTION:Départs entre 9h32 et 11h56. Ouvert aux dames et aux hommes. Plusieurs classes. Infos et inscriptions sur les babillards ou à la boutique du pro. Bonne chance!
URL:https://golfvictoriaville.com/activites/ronde-1-championnat-du-club/
END:VEVENT
BEGIN:VEVENT
DTSTART;TZID=America/Toronto:20250830T130000
DTEND;TZID=America/Toronto:20250830T233000
DTSTAMP:20260419T183059
CREATED:20250506T154756Z
LAST-MODIFIED:20250506T154958Z
UID:1777-1756558800-1756596600@golfvictoriaville.com
SUMMARY:Mariage - Audrey et Alex
DESCRIPTION:Réception en PM
URL:https://golfvictoriaville.com/activites/mariage-audrey-et-alex/
END:VEVENT
BEGIN:VEVENT
DTSTART;TZID=America/Toronto:20250831T080000
DTEND;TZID=America/Toronto:20250831T100000
DTSTAMP:20260419T183059
CREATED:20250506T155208Z
LAST-MODIFIED:20250506T155802Z
UID:1781-1756627200-1756634400@golfvictoriaville.com
SUMMARY:Ronde 2 - Championnat du Club
DESCRIPTION:Départs entre 9h32 et 11h56. Bonne ronde!!!
URL:https://golfvictoriaville.com/activites/ronde-2-championnat-du-club/
END:VEVENT
END:VCALENDAR